BEGIN:VCALENDAR
VERSION:2.0
PRODID:-//SVP Küssnacht - ECPv6.15.17.1//NONSGML v1.0//EN
CALSCALE:GREGORIAN
METHOD:PUBLISH
X-ORIGINAL-URL:https://svp-kuessnacht.ch
X-WR-CALDESC:Veranstaltungen für SVP Küssnacht
REFRESH-INTERVAL;VALUE=DURATION:PT1H
X-Robots-Tag:noindex
X-PUBLISHED-TTL:PT1H
BEGIN:VTIMEZONE
TZID:UTC
BEGIN:STANDARD
TZOFFSETFROM:+0000
TZOFFSETTO:+0000
TZNAME:UTC
DTSTART:20230101T000000
END:STANDARD
END:VTIMEZONE
BEGIN:VEVENT
DTSTART;TZID=UTC:20251216T200000
DTEND;TZID=UTC:20251216T200000
DTSTAMP:20260420T041534
CREATED:20250224T061035Z
LAST-MODIFIED:20250224T061035Z
UID:2256-1765915200-1765915200@svp-kuessnacht.ch
SUMMARY:ao. Generalversammlung SVP Schwyz
DESCRIPTION:
URL:https://svp-kuessnacht.ch/termine/ao-generalversammlung-svp-schwyz/
END:VEVENT
BEGIN:VEVENT
DTSTART;TZID=UTC:20251209T200000
DTEND;TZID=UTC:20251209T200000
DTSTAMP:20260420T041534
CREATED:20250224T061050Z
LAST-MODIFIED:20250224T061050Z
UID:2262-1765310400-1765310400@svp-kuessnacht.ch
SUMMARY:Bezirksgemeinde (Budget 2026)
DESCRIPTION:
URL:https://svp-kuessnacht.ch/termine/bezirksgemeinde-budget-2026/
END:VEVENT
BEGIN:VEVENT
DTSTART;TZID=UTC:20251202T193000
DTEND;TZID=UTC:20251202T193000
DTSTAMP:20260420T041534
CREATED:20250224T060612Z
LAST-MODIFIED:20250224T061009Z
UID:2231-1764703800-1764703800@svp-kuessnacht.ch
SUMMARY:Parteiversammlung bei Bedarf (Bezirksgemeinde) SVP Bezirk Küssnacht
DESCRIPTION:
URL:https://svp-kuessnacht.ch/termine/parteiversammlung-bei-bedarf-bezirksgemeinde-svp-bezirk-kuessnacht-3/
END:VEVENT
BEGIN:VEVENT
DTSTART;TZID=UTC:20251130T100000
DTEND;TZID=UTC:20251130T100000
DTSTAMP:20260420T041534
CREATED:20250224T060624Z
LAST-MODIFIED:20250224T061020Z
UID:2239-1764496800-1764496800@svp-kuessnacht.ch
SUMMARY:«SVP bi de Lüt» am Offenen Sonntag in Küssnacht
DESCRIPTION:
URL:https://svp-kuessnacht.ch/termine/svp-bi-de-luet-am-offenen-sonntag-in-kuessnacht-4/
END:VEVENT
BEGIN:VEVENT
DTSTART;TZID=UTC:20251130T000000
DTEND;TZID=UTC:20251130T000000
DTSTAMP:20260420T041534
CREATED:20250224T060608Z
LAST-MODIFIED:20250224T061000Z
UID:2226-1764460800-1764460800@svp-kuessnacht.ch
SUMMARY:Eidgenössischer Abstimmungssonntag
DESCRIPTION:
URL:https://svp-kuessnacht.ch/termine/eidgenoessischer-abstimmungssonntag-11/
END:VEVENT
BEGIN:VEVENT
DTSTART;TZID=UTC:20251105T193000
DTEND;TZID=UTC:20251105T193000
DTSTAMP:20260420T041534
CREATED:20250224T060612Z
LAST-MODIFIED:20250224T061008Z
UID:2230-1762371000-1762371000@svp-kuessnacht.ch
SUMMARY:Parteiversammlung SVP Bezirk Küssnacht
DESCRIPTION:
URL:https://svp-kuessnacht.ch/termine/parteiversammlung-svp-bezirk-kuessnacht-5/
END:VEVENT
BEGIN:VEVENT
DTSTART;TZID=UTC:20251030T200000
DTEND;TZID=UTC:20251030T200000
DTSTAMP:20260420T041534
CREATED:20250224T061035Z
LAST-MODIFIED:20250224T061035Z
UID:2255-1761854400-1761854400@svp-kuessnacht.ch
SUMMARY:Parteiversammlung SVP Schwyz
DESCRIPTION:
URL:https://svp-kuessnacht.ch/termine/parteiversammlung-svp-schwyz-4/
END:VEVENT
BEGIN:VEVENT
DTSTART;TZID=UTC:20251025T000000
DTEND;TZID=UTC:20251025T000000
DTSTAMP:20260420T041534
CREATED:20250224T061050Z
LAST-MODIFIED:20250224T061050Z
UID:2260-1761350400-1761350400@svp-kuessnacht.ch
SUMMARY:Delegiertenversammlung SVP Schweiz (Bei Interesse Gästekarten verfügbar)
DESCRIPTION:
URL:https://svp-kuessnacht.ch/termine/delegiertenversammlung-svp-schweiz-bei-interesse-gaestekarten-verfuegbar-4/
END:VEVENT
BEGIN:VEVENT
DTSTART;TZID=UTC:20250928T000000
DTEND;TZID=UTC:20250928T000000
DTSTAMP:20260420T041534
CREATED:20250224T060607Z
LAST-MODIFIED:20250224T060959Z
UID:2225-1759017600-1759017600@svp-kuessnacht.ch
SUMMARY:Eidgenössischer Abstimmungssonntag
DESCRIPTION:
URL:https://svp-kuessnacht.ch/termine/eidgenoessischer-abstimmungssonntag-10/
END:VEVENT
BEGIN:VEVENT
DTSTART;TZID=UTC:20250902T193000
DTEND;TZID=UTC:20250902T193000
DTSTAMP:20260420T041534
CREATED:20250224T060611Z
LAST-MODIFIED:20250224T061008Z
UID:2229-1756841400-1756841400@svp-kuessnacht.ch
SUMMARY:Parteiversammlung SVP Bezirk Küssnacht
DESCRIPTION:
URL:https://svp-kuessnacht.ch/termine/parteiversammlung-svp-bezirk-kuessnacht-4/
END:VEVENT
BEGIN:VEVENT
DTSTART;TZID=UTC:20250830T070000
DTEND;TZID=UTC:20250830T070000
DTSTAMP:20260420T041534
CREATED:20250224T060623Z
LAST-MODIFIED:20250224T061020Z
UID:2238-1756537200-1756537200@svp-kuessnacht.ch
SUMMARY:«SVP bi de Lüt» August-Märt in Küssnacht
DESCRIPTION:
URL:https://svp-kuessnacht.ch/termine/svp-bi-de-luet-august-maert-in-kuessnacht-2/
END:VEVENT
BEGIN:VEVENT
DTSTART;TZID=UTC:20250826T200000
DTEND;TZID=UTC:20250826T200000
DTSTAMP:20260420T041534
CREATED:20250224T061035Z
LAST-MODIFIED:20250224T061035Z
UID:2254-1756238400-1756238400@svp-kuessnacht.ch
SUMMARY:Parteiversammlung SVP Schwyz
DESCRIPTION:
URL:https://svp-kuessnacht.ch/termine/parteiversammlung-svp-schwyz-3/
END:VEVENT
BEGIN:VEVENT
DTSTART;TZID=UTC:20250816T000000
DTEND;TZID=UTC:20250816T000000
DTSTAMP:20260420T041534
CREATED:20250224T061050Z
LAST-MODIFIED:20250224T061050Z
UID:2259-1755302400-1755302400@svp-kuessnacht.ch
SUMMARY:Delegiertenversammlung SVP Schweiz (Bei Interesse Gästekarten verfügbar)
DESCRIPTION:
URL:https://svp-kuessnacht.ch/termine/delegiertenversammlung-svp-schweiz-bei-interesse-gaestekarten-verfuegbar-3/
END:VEVENT
BEGIN:VEVENT
DTSTART;TZID=UTC:20250629T110000
DTEND;TZID=UTC:20250629T110000
DTSTAMP:20260420T041534
CREATED:20250224T060612Z
LAST-MODIFIED:20250224T061009Z
UID:2232-1751194800-1751194800@svp-kuessnacht.ch
SUMMARY:SVP-Grillieren
DESCRIPTION:
URL:https://svp-kuessnacht.ch/termine/svp-grillieren-4/
END:VEVENT
BEGIN:VEVENT
DTSTART;TZID=UTC:20250518T000000
DTEND;TZID=UTC:20250518T000000
DTSTAMP:20260420T041534
CREATED:20250224T060606Z
LAST-MODIFIED:20250224T060959Z
UID:2224-1747526400-1747526400@svp-kuessnacht.ch
SUMMARY:Eidgenössischer Abstimmungssonntag
DESCRIPTION:
URL:https://svp-kuessnacht.ch/termine/eidgenoessischer-abstimmungssonntag-9/
END:VEVENT
BEGIN:VEVENT
DTSTART;TZID=UTC:20250424T200000
DTEND;TZID=UTC:20250424T200000
DTSTAMP:20260420T041534
CREATED:20250224T060624Z
LAST-MODIFIED:20250224T061020Z
UID:2242-1745524800-1745524800@svp-kuessnacht.ch
SUMMARY:Parteiversammlung SVP Schwyz
DESCRIPTION:
URL:https://svp-kuessnacht.ch/termine/parteiversammlung-svp-schwyz-2/
END:VEVENT
BEGIN:VEVENT
DTSTART;TZID=UTC:20250407T200000
DTEND;TZID=UTC:20250407T200000
DTSTAMP:20260420T041534
CREATED:20250224T061050Z
LAST-MODIFIED:20250224T061050Z
UID:2261-1744056000-1744056000@svp-kuessnacht.ch
SUMMARY:Bezirksgemeinde (Rechnung 2024)
DESCRIPTION:
URL:https://svp-kuessnacht.ch/termine/bezirksgemeinde-rechnung-2024/
END:VEVENT
BEGIN:VEVENT
DTSTART;TZID=UTC:20250402T193000
DTEND;TZID=UTC:20250402T193000
DTSTAMP:20260420T041534
CREATED:20250224T060611Z
LAST-MODIFIED:20250224T061008Z
UID:2228-1743622200-1743622200@svp-kuessnacht.ch
SUMMARY:Parteiversammlung (Bezirksgemeinde) SVP Bezirk Küssnacht
DESCRIPTION:
URL:https://svp-kuessnacht.ch/termine/parteiversammlung-bezirksgemeinde-svp-bezirk-kuessnacht/
END:VEVENT
BEGIN:VEVENT
DTSTART;TZID=UTC:20250329T000000
DTEND;TZID=UTC:20250329T000000
DTSTAMP:20260420T041534
CREATED:20250224T061036Z
LAST-MODIFIED:20250224T061036Z
UID:2258-1743206400-1743206400@svp-kuessnacht.ch
SUMMARY:Delegiertenversammlung SVP Schweiz (Bei Interesse Gästekarten verfügbar)
DESCRIPTION:
URL:https://svp-kuessnacht.ch/termine/delegiertenversammlung-svp-schweiz-bei-interesse-gaestekarten-verfuegbar-2/
END:VEVENT
BEGIN:VEVENT
DTSTART;TZID=UTC:20250313T200000
DTEND;TZID=UTC:20250313T200000
DTSTAMP:20260420T041534
CREATED:20250224T060624Z
LAST-MODIFIED:20250224T061020Z
UID:2241-1741896000-1741896000@svp-kuessnacht.ch
SUMMARY:Generalversammlung SVP Schwyz
DESCRIPTION:
URL:https://svp-kuessnacht.ch/termine/generalversammlung-svp-schwyz/
END:VEVENT
BEGIN:VEVENT
DTSTART;TZID=UTC:20250206T193000
DTEND;TZID=UTC:20250206T193000
DTSTAMP:20260420T041534
CREATED:20250224T060609Z
LAST-MODIFIED:20250224T061001Z
UID:2227-1738870200-1738870200@svp-kuessnacht.ch
SUMMARY:Generalversammlung SVP Bezirk Küssnacht
DESCRIPTION:
URL:https://svp-kuessnacht.ch/termine/generalversammlung-svp-bezirk-kuessnacht/
END:VEVENT
BEGIN:VEVENT
DTSTART;TZID=UTC:20250125T000000
DTEND;TZID=UTC:20250125T000000
DTSTAMP:20260420T041534
CREATED:20250224T061035Z
LAST-MODIFIED:20250224T061035Z
UID:2257-1737763200-1737763200@svp-kuessnacht.ch
SUMMARY:Delegiertenversammlung SVP Schweiz (Bei Interesse Gästekarten verfügbar)
DESCRIPTION:
URL:https://svp-kuessnacht.ch/termine/delegiertenversammlung-svp-schweiz-bei-interesse-gaestekarten-verfuegbar/
END:VEVENT
BEGIN:VEVENT
DTSTART;TZID=UTC:20250123T200000
DTEND;TZID=UTC:20250123T200000
DTSTAMP:20260420T041534
CREATED:20250224T060624Z
LAST-MODIFIED:20250224T061020Z
UID:2240-1737662400-1737662400@svp-kuessnacht.ch
SUMMARY:Parteiversammlung SVP Schwyz
DESCRIPTION:
URL:https://svp-kuessnacht.ch/termine/parteiversammlung-svp-schwyz/
END:VEVENT
BEGIN:VEVENT
DTSTART;TZID=UTC:20241212T200000
DTEND;TZID=UTC:20241212T200000
DTSTAMP:20260420T041534
CREATED:20240112T065819Z
LAST-MODIFIED:20240112T065819Z
UID:2145-1734033600-1734033600@svp-kuessnacht.ch
SUMMARY:ao. Generalversammlung SVP Kanton Schwyz
DESCRIPTION:
URL:https://svp-kuessnacht.ch/termine/ao-generalversammlung-svp-kanton-schwyz/
END:VEVENT
BEGIN:VEVENT
DTSTART;TZID=UTC:20241209T200000
DTEND;TZID=UTC:20241209T200000
DTSTAMP:20260420T041534
CREATED:20240112T075701Z
LAST-MODIFIED:20240112T075701Z
UID:2162-1733774400-1733774400@svp-kuessnacht.ch
SUMMARY:Bezirksgemeinde (Budget 2025)
DESCRIPTION:
URL:https://svp-kuessnacht.ch/termine/bezirksgemeinde-budget-2025/
END:VEVENT
BEGIN:VEVENT
DTSTART;TZID=UTC:20241203T100000
DTEND;TZID=UTC:20241203T100000
DTSTAMP:20260420T041534
CREATED:20240112T065803Z
LAST-MODIFIED:20240112T065804Z
UID:2134-1733220000-1733220000@svp-kuessnacht.ch
SUMMARY:«SVP bi de Lüt» am Offenen Sonntag in Küssnacht
DESCRIPTION:
URL:https://svp-kuessnacht.ch/termine/svp-bi-de-luet-am-offenen-sonntag-in-kuessnacht-3/
END:VEVENT
BEGIN:VEVENT
DTSTART;TZID=UTC:20241202T193000
DTEND;TZID=UTC:20241202T193000
DTSTAMP:20260420T041534
CREATED:20240112T065748Z
LAST-MODIFIED:20240112T065748Z
UID:2129-1733167800-1733167800@svp-kuessnacht.ch
SUMMARY:Parteiversammlung bei Bedarf (Bezirksgemeinde) SVP Bezirk Küssnacht
DESCRIPTION:
URL:https://svp-kuessnacht.ch/termine/parteiversammlung-bei-bedarf-bezirksgemeinde-svp-bezirk-kuessnacht-2/
END:VEVENT
BEGIN:VEVENT
DTSTART;VALUE=DATE:20241124
DTEND;VALUE=DATE:20241125
DTSTAMP:20260420T041534
CREATED:20240112T065730Z
LAST-MODIFIED:20240112T070425Z
UID:2123-1732406400-1732492799@svp-kuessnacht.ch
SUMMARY:Eidgenössischer Abstimmungssonntag
DESCRIPTION:
URL:https://svp-kuessnacht.ch/termine/eidgenoessischer-abstimmungssonntag-7/
END:VEVENT
BEGIN:VEVENT
DTSTART;TZID=UTC:20241030T193000
DTEND;TZID=UTC:20241030T193000
DTSTAMP:20260420T041534
CREATED:20240112T065732Z
LAST-MODIFIED:20240112T065732Z
UID:2128-1730316600-1730316600@svp-kuessnacht.ch
SUMMARY:Parteiversammlung SVP Bezirk Küssnacht
DESCRIPTION:
URL:https://svp-kuessnacht.ch/termine/parteiversammlung-svp-bezirk-kuessnacht-3/
END:VEVENT
BEGIN:VEVENT
DTSTART;TZID=UTC:20241021T200000
DTEND;TZID=UTC:20241021T200000
DTSTAMP:20260420T041534
CREATED:20240112T065819Z
LAST-MODIFIED:20240112T065819Z
UID:2144-1729540800-1729540800@svp-kuessnacht.ch
SUMMARY:Parteiversammlung SVP Kanton Schwyz
DESCRIPTION:
URL:https://svp-kuessnacht.ch/termine/parteiversammlung-svp-kanton-schwyz-6/
END:VEVENT
END:VCALENDAR